BEGIN:VCALENDAR
VERSION:2.0
PRODID:-//Children for Change - ECPv6.9.0//NONSGML v1.0//EN
CALSCALE:GREGORIAN
METHOD:PUBLISH
X-ORIGINAL-URL:https://www.children4change.org
X-WR-CALDESC:Events for Children for Change
REFRESH-INTERVAL;VALUE=DURATION:PT1H
X-Robots-Tag:noindex
X-PUBLISHED-TTL:PT1H
BEGIN:VTIMEZONE
TZID:America/Los_Angeles
BEGIN:DAYLIGHT
TZOFFSETFROM:-0800
TZOFFSETTO:-0700
TZNAME:PDT
DTSTART:20180311T100000
END:DAYLIGHT
BEGIN:STANDARD
TZOFFSETFROM:-0700
TZOFFSETTO:-0800
TZNAME:PST
DTSTART:20181104T090000
END:STANDARD
BEGIN:DAYLIGHT
TZOFFSETFROM:-0800
TZOFFSETTO:-0700
TZNAME:PDT
DTSTART:20190310T100000
END:DAYLIGHT
BEGIN:STANDARD
TZOFFSETFROM:-0700
TZOFFSETTO:-0800
TZNAME:PST
DTSTART:20191103T090000
END:STANDARD
END:VTIMEZONE
BEGIN:VEVENT
DTSTART;TZID=America/Los_Angeles:20190327T080000
DTEND;TZID=America/Los_Angeles:20190327T100000
DTSTAMP:20260420T010530
CREATED:20180829T073918Z
LAST-MODIFIED:20180829T074221Z
UID:748-1553673600-1553680800@www.children4change.org
SUMMARY:Distribute Healthy Food at a Farmer's Market-Style Food Bank
DESCRIPTION:Volunteer at the Health Hub where you’ll distribute healthy food to individuals and families.  This Farmer’s Market-Style Food Bank is a wonderful resource.  In addition to this weekly food bank\, the Health Hub\, coordinated by Marin Community Clinics\,  provides free and bilingual services such as farmers market style food distribution\, Zumba\, nutrition education\, healthy taste tests\, health screenings and information about community organizations.
URL:https://www.children4change.org/event/distribute-healthy-food-at-a-farmers-market-style-food-bank-2019-03-27/
LOCATION:Health Hub\, 3110 Kerner Blvd\, San Rafael\, CA\, 94901
CATEGORIES:Community Volunteering
ORGANIZER;CN="Children for Change":MAILTO:info@children4change.org
END:VEVENT
BEGIN:VEVENT
DTSTART;TZID=America/Los_Angeles:20190320T080000
DTEND;TZID=America/Los_Angeles:20190320T084500
DTSTAMP:20260420T010530
CREATED:20180823T225549Z
LAST-MODIFIED:20180829T064836Z
UID:626-1553068800-1553071500@www.children4change.org
SUMMARY:Give TLC to Adoptable Bunnies at Marin Humane Society
DESCRIPTION:Join us for Rabbit Romper Room at the Marin Humane Society. The bunnies have a chance to romp and run freely and you get the chance to pet them and give them love!
URL:https://www.children4change.org/event/give-tlc-to-adoptable-bunnies-at-marin-humane-society-2-2019-03-20/
LOCATION:Marin Humane Society\, 171 Bel Marin Keys Blvd.\, Novato\, CA
CATEGORIES:Community Volunteering
ORGANIZER;CN="Children for Change":MAILTO:info@children4change.org
END:VEVENT
BEGIN:VEVENT
DTSTART;TZID=America/Los_Angeles:20190313T080000
DTEND;TZID=America/Los_Angeles:20190313T100000
DTSTAMP:20260420T010530
CREATED:20180829T073918Z
LAST-MODIFIED:20180829T074220Z
UID:747-1552464000-1552471200@www.children4change.org
SUMMARY:Distribute Healthy Food at a Farmer's Market-Style Food Bank
DESCRIPTION:Volunteer at the Health Hub where you’ll distribute healthy food to individuals and families.  This Farmer’s Market-Style Food Bank is a wonderful resource.  In addition to this weekly food bank\, the Health Hub\, coordinated by Marin Community Clinics\,  provides free and bilingual services such as farmers market style food distribution\, Zumba\, nutrition education\, healthy taste tests\, health screenings and information about community organizations.
URL:https://www.children4change.org/event/distribute-healthy-food-at-a-farmers-market-style-food-bank-2019-03-13/
LOCATION:Health Hub\, 3110 Kerner Blvd\, San Rafael\, CA\, 94901
CATEGORIES:Community Volunteering
ORGANIZER;CN="Children for Change":MAILTO:info@children4change.org
END:VEVENT
BEGIN:VEVENT
DTSTART;TZID=America/Los_Angeles:20190227T113000
DTEND;TZID=America/Los_Angeles:20190227T123000
DTSTAMP:20260420T010530
CREATED:20180906T043948Z
LAST-MODIFIED:20180906T044243Z
UID:800-1551267000-1551270600@www.children4change.org
SUMMARY:C4C Check-In
DESCRIPTION:Come to our monthly check-in where we’ll share C4C Central updates\, hear from each of our Chapter representatives and information share.  All are welcome to attend to learn more about C4C.  RSVP requested but not required.  Hope to see you there!
URL:https://www.children4change.org/event/0000ff-c4c-check-in-meeting-0000ff-2019-02-27/
CATEGORIES:C4C Community Meeting
ORGANIZER;CN="Children for Change":MAILTO:info@children4change.org
END:VEVENT
BEGIN:VEVENT
DTSTART;TZID=America/Los_Angeles:20190227T070000
DTEND;TZID=America/Los_Angeles:20190227T090000
DTSTAMP:20260420T010530
CREATED:20180829T073918Z
LAST-MODIFIED:20180829T074220Z
UID:746-1551250800-1551258000@www.children4change.org
SUMMARY:Distribute Healthy Food at a Farmer's Market-Style Food Bank
DESCRIPTION:Volunteer at the Health Hub where you’ll distribute healthy food to individuals and families.  This Farmer’s Market-Style Food Bank is a wonderful resource.  In addition to this weekly food bank\, the Health Hub\, coordinated by Marin Community Clinics\,  provides free and bilingual services such as farmers market style food distribution\, Zumba\, nutrition education\, healthy taste tests\, health screenings and information about community organizations.
URL:https://www.children4change.org/event/distribute-healthy-food-at-a-farmers-market-style-food-bank-2019-02-27/
LOCATION:Health Hub\, 3110 Kerner Blvd\, San Rafael\, CA\, 94901
CATEGORIES:Community Volunteering
ORGANIZER;CN="Children for Change":MAILTO:info@children4change.org
END:VEVENT
BEGIN:VEVENT
DTSTART;TZID=America/Los_Angeles:20190220T070000
DTEND;TZID=America/Los_Angeles:20190220T074500
DTSTAMP:20260420T010530
CREATED:20180823T225549Z
LAST-MODIFIED:20180824T062319Z
UID:625-1550646000-1550648700@www.children4change.org
SUMMARY:Give TLC to Adoptable Bunnies at Marin Humane Society
DESCRIPTION:Join us for Rabbit Romper Room at the Marin Humane Society. The bunnies have a chance to romp and run freely and you get the chance to pet them and give them love!
URL:https://www.children4change.org/event/give-tlc-to-adoptable-bunnies-at-marin-humane-society-2-2019-02-20/
LOCATION:Marin Humane Society\, 171 Bel Marin Keys Blvd.\, Novato\, CA
CATEGORIES:Community Volunteering
ORGANIZER;CN="Children for Change":MAILTO:info@children4change.org
END:VEVENT
BEGIN:VEVENT
DTSTART;TZID=America/Los_Angeles:20190213T070000
DTEND;TZID=America/Los_Angeles:20190213T090000
DTSTAMP:20260420T010530
CREATED:20180829T073918Z
LAST-MODIFIED:20180829T074220Z
UID:745-1550041200-1550048400@www.children4change.org
SUMMARY:Distribute Healthy Food at a Farmer's Market-Style Food Bank
DESCRIPTION:Volunteer at the Health Hub where you’ll distribute healthy food to individuals and families.  This Farmer’s Market-Style Food Bank is a wonderful resource.  In addition to this weekly food bank\, the Health Hub\, coordinated by Marin Community Clinics\,  provides free and bilingual services such as farmers market style food distribution\, Zumba\, nutrition education\, healthy taste tests\, health screenings and information about community organizations.
URL:https://www.children4change.org/event/distribute-healthy-food-at-a-farmers-market-style-food-bank-2019-02-13/
LOCATION:Health Hub\, 3110 Kerner Blvd\, San Rafael\, CA\, 94901
CATEGORIES:Community Volunteering
ORGANIZER;CN="Children for Change":MAILTO:info@children4change.org
END:VEVENT
BEGIN:VEVENT
DTSTART;TZID=America/Los_Angeles:20190130T113000
DTEND;TZID=America/Los_Angeles:20190130T123000
DTSTAMP:20260420T010530
CREATED:20180906T043948Z
LAST-MODIFIED:20180906T044243Z
UID:799-1548847800-1548851400@www.children4change.org
SUMMARY:C4C Check-In
DESCRIPTION:Come to our monthly check-in where we’ll share C4C Central updates\, hear from each of our Chapter representatives and information share.  All are welcome to attend to learn more about C4C.  RSVP requested but not required.  Hope to see you there!
URL:https://www.children4change.org/event/0000ff-c4c-check-in-meeting-0000ff-2019-01-30/
CATEGORIES:C4C Community Meeting
ORGANIZER;CN="Children for Change":MAILTO:info@children4change.org
END:VEVENT
BEGIN:VEVENT
DTSTART;TZID=America/Los_Angeles:20190130T070000
DTEND;TZID=America/Los_Angeles:20190130T090000
DTSTAMP:20260420T010530
CREATED:20180829T073918Z
LAST-MODIFIED:20180829T074217Z
UID:744-1548831600-1548838800@www.children4change.org
SUMMARY:Distribute Healthy Food at a Farmer's Market-Style Food Bank
DESCRIPTION:Volunteer at the Health Hub where you’ll distribute healthy food to individuals and families.  This Farmer’s Market-Style Food Bank is a wonderful resource.  In addition to this weekly food bank\, the Health Hub\, coordinated by Marin Community Clinics\,  provides free and bilingual services such as farmers market style food distribution\, Zumba\, nutrition education\, healthy taste tests\, health screenings and information about community organizations.
URL:https://www.children4change.org/event/distribute-healthy-food-at-a-farmers-market-style-food-bank-2019-01-30/
LOCATION:Health Hub\, 3110 Kerner Blvd\, San Rafael\, CA\, 94901
CATEGORIES:Community Volunteering
ORGANIZER;CN="Children for Change":MAILTO:info@children4change.org
END:VEVENT
BEGIN:VEVENT
DTSTART;TZID=America/Los_Angeles:20190116T070000
DTEND;TZID=America/Los_Angeles:20190116T090000
DTSTAMP:20260420T010530
CREATED:20180829T073918Z
LAST-MODIFIED:20180829T074216Z
UID:743-1547622000-1547629200@www.children4change.org
SUMMARY:Distribute Healthy Food at a Farmer's Market-Style Food Bank
DESCRIPTION:Volunteer at the Health Hub where you’ll distribute healthy food to individuals and families.  This Farmer’s Market-Style Food Bank is a wonderful resource.  In addition to this weekly food bank\, the Health Hub\, coordinated by Marin Community Clinics\,  provides free and bilingual services such as farmers market style food distribution\, Zumba\, nutrition education\, healthy taste tests\, health screenings and information about community organizations.
URL:https://www.children4change.org/event/distribute-healthy-food-at-a-farmers-market-style-food-bank-2019-01-16/
LOCATION:Health Hub\, 3110 Kerner Blvd\, San Rafael\, CA\, 94901
CATEGORIES:Community Volunteering
ORGANIZER;CN="Children for Change":MAILTO:info@children4change.org
END:VEVENT
BEGIN:VEVENT
DTSTART;TZID=America/Los_Angeles:20190116T070000
DTEND;TZID=America/Los_Angeles:20190116T074500
DTSTAMP:20260420T010530
CREATED:20180823T225549Z
LAST-MODIFIED:20180824T062319Z
UID:624-1547622000-1547624700@www.children4change.org
SUMMARY:Give TLC to Adoptable Bunnies at Marin Humane Society
DESCRIPTION:Join us for Rabbit Romper Room at the Marin Humane Society. The bunnies have a chance to romp and run freely and you get the chance to pet them and give them love!
URL:https://www.children4change.org/event/give-tlc-to-adoptable-bunnies-at-marin-humane-society-2-2019-01-16/
LOCATION:Marin Humane Society\, 171 Bel Marin Keys Blvd.\, Novato\, CA
CATEGORIES:Community Volunteering
ORGANIZER;CN="Children for Change":MAILTO:info@children4change.org
END:VEVENT
BEGIN:VEVENT
DTSTART;TZID=America/Los_Angeles:20190102T070000
DTEND;TZID=America/Los_Angeles:20190102T090000
DTSTAMP:20260420T010530
CREATED:20180829T073918Z
LAST-MODIFIED:20180829T074216Z
UID:742-1546412400-1546419600@www.children4change.org
SUMMARY:Distribute Healthy Food at a Farmer's Market-Style Food Bank
DESCRIPTION:Volunteer at the Health Hub where you’ll distribute healthy food to individuals and families.  This Farmer’s Market-Style Food Bank is a wonderful resource.  In addition to this weekly food bank\, the Health Hub\, coordinated by Marin Community Clinics\,  provides free and bilingual services such as farmers market style food distribution\, Zumba\, nutrition education\, healthy taste tests\, health screenings and information about community organizations.
URL:https://www.children4change.org/event/distribute-healthy-food-at-a-farmers-market-style-food-bank-2019-01-02/
LOCATION:Health Hub\, 3110 Kerner Blvd\, San Rafael\, CA\, 94901
CATEGORIES:Community Volunteering
ORGANIZER;CN="Children for Change":MAILTO:info@children4change.org
END:VEVENT
BEGIN:VEVENT
DTSTART;TZID=America/Los_Angeles:20181226T113000
DTEND;TZID=America/Los_Angeles:20181226T123000
DTSTAMP:20260420T010530
CREATED:20180906T043948Z
LAST-MODIFIED:20180906T044243Z
UID:798-1545823800-1545827400@www.children4change.org
SUMMARY:C4C Check-In
DESCRIPTION:Come to our monthly check-in where we’ll share C4C Central updates\, hear from each of our Chapter representatives and information share.  All are welcome to attend to learn more about C4C.  RSVP requested but not required.  Hope to see you there!
URL:https://www.children4change.org/event/0000ff-c4c-check-in-meeting-0000ff-2018-12-26/
CATEGORIES:C4C Community Meeting
ORGANIZER;CN="Children for Change":MAILTO:info@children4change.org
END:VEVENT
BEGIN:VEVENT
DTSTART;TZID=America/Los_Angeles:20181219T070000
DTEND;TZID=America/Los_Angeles:20181219T090000
DTSTAMP:20260420T010530
CREATED:20180829T073918Z
LAST-MODIFIED:20180829T074216Z
UID:741-1545202800-1545210000@www.children4change.org
SUMMARY:Distribute Healthy Food at a Farmer's Market-Style Food Bank
DESCRIPTION:Volunteer at the Health Hub where you’ll distribute healthy food to individuals and families.  This Farmer’s Market-Style Food Bank is a wonderful resource.  In addition to this weekly food bank\, the Health Hub\, coordinated by Marin Community Clinics\,  provides free and bilingual services such as farmers market style food distribution\, Zumba\, nutrition education\, healthy taste tests\, health screenings and information about community organizations.
URL:https://www.children4change.org/event/distribute-healthy-food-at-a-farmers-market-style-food-bank-2018-12-19/
LOCATION:Health Hub\, 3110 Kerner Blvd\, San Rafael\, CA\, 94901
CATEGORIES:Community Volunteering
ORGANIZER;CN="Children for Change":MAILTO:info@children4change.org
END:VEVENT
BEGIN:VEVENT
DTSTART;TZID=America/Los_Angeles:20181219T070000
DTEND;TZID=America/Los_Angeles:20181219T074500
DTSTAMP:20260420T010530
CREATED:20180823T225549Z
LAST-MODIFIED:20180829T065228Z
UID:623-1545202800-1545205500@www.children4change.org
SUMMARY:Give TLC to Adoptable Bunnies at Marin Humane Society
DESCRIPTION:Join us for Rabbit Romper Room at the Marin Humane Society. The bunnies have a chance to romp and run freely and you get the chance to pet them and give them love!
URL:https://www.children4change.org/event/give-tlc-to-adoptable-bunnies-at-marin-humane-society-2-2018-12-19/
LOCATION:Marin Humane Society\, 171 Bel Marin Keys Blvd.\, Novato\, CA
CATEGORIES:Community Volunteering
ORGANIZER;CN="Children for Change":MAILTO:info@children4change.org
END:VEVENT
BEGIN:VEVENT
DTSTART;TZID=America/Los_Angeles:20181205T070000
DTEND;TZID=America/Los_Angeles:20181205T090000
DTSTAMP:20260420T010530
CREATED:20180829T073918Z
LAST-MODIFIED:20180829T074215Z
UID:740-1543993200-1544000400@www.children4change.org
SUMMARY:Distribute Healthy Food at a Farmer's Market-Style Food Bank
DESCRIPTION:Volunteer at the Health Hub where you’ll distribute healthy food to individuals and families.  This Farmer’s Market-Style Food Bank is a wonderful resource.  In addition to this weekly food bank\, the Health Hub\, coordinated by Marin Community Clinics\,  provides free and bilingual services such as farmers market style food distribution\, Zumba\, nutrition education\, healthy taste tests\, health screenings and information about community organizations.
URL:https://www.children4change.org/event/distribute-healthy-food-at-a-farmers-market-style-food-bank-2018-12-05/
LOCATION:Health Hub\, 3110 Kerner Blvd\, San Rafael\, CA\, 94901
CATEGORIES:Community Volunteering
ORGANIZER;CN="Children for Change":MAILTO:info@children4change.org
END:VEVENT
BEGIN:VEVENT
DTSTART;TZID=America/Los_Angeles:20181129T000000
DTEND;TZID=America/Los_Angeles:20181129T090000
DTSTAMP:20260420T010530
CREATED:20181029T212122Z
LAST-MODIFIED:20181029T215718Z
UID:830-1543449600-1543482000@www.children4change.org
SUMMARY:Test-Volunteer-Registration
DESCRIPTION:
URL:https://www.children4change.org/event/test-volunteer-registration/
END:VEVENT
BEGIN:VEVENT
DTSTART;TZID=America/Los_Angeles:20181128T113000
DTEND;TZID=America/Los_Angeles:20181128T123000
DTSTAMP:20260420T010530
CREATED:20180906T043948Z
LAST-MODIFIED:20180906T044242Z
UID:797-1543404600-1543408200@www.children4change.org
SUMMARY:C4C Check-In
DESCRIPTION:Come to our monthly check-in where we’ll share C4C Central updates\, hear from each of our Chapter representatives and information share.  All are welcome to attend to learn more about C4C.  RSVP requested but not required.  Hope to see you there!
URL:https://www.children4change.org/event/0000ff-c4c-check-in-meeting-0000ff-2018-11-28/
CATEGORIES:C4C Community Meeting
ORGANIZER;CN="Children for Change":MAILTO:info@children4change.org
END:VEVENT
BEGIN:VEVENT
DTSTART;TZID=America/Los_Angeles:20181121T070000
DTEND;TZID=America/Los_Angeles:20181121T090000
DTSTAMP:20260420T010530
CREATED:20180829T073918Z
LAST-MODIFIED:20180829T074215Z
UID:739-1542783600-1542790800@www.children4change.org
SUMMARY:Distribute Healthy Food at a Farmer's Market-Style Food Bank
DESCRIPTION:Volunteer at the Health Hub where you’ll distribute healthy food to individuals and families.  This Farmer’s Market-Style Food Bank is a wonderful resource.  In addition to this weekly food bank\, the Health Hub\, coordinated by Marin Community Clinics\,  provides free and bilingual services such as farmers market style food distribution\, Zumba\, nutrition education\, healthy taste tests\, health screenings and information about community organizations.
URL:https://www.children4change.org/event/distribute-healthy-food-at-a-farmers-market-style-food-bank-2018-11-21/
LOCATION:Health Hub\, 3110 Kerner Blvd\, San Rafael\, CA\, 94901
CATEGORIES:Community Volunteering
ORGANIZER;CN="Children for Change":MAILTO:info@children4change.org
END:VEVENT
BEGIN:VEVENT
DTSTART;TZID=America/Los_Angeles:20181121T070000
DTEND;TZID=America/Los_Angeles:20181121T074500
DTSTAMP:20260420T010530
CREATED:20180823T225549Z
LAST-MODIFIED:20180829T065131Z
UID:622-1542783600-1542786300@www.children4change.org
SUMMARY:Give TLC to Adoptable Bunnies at Marin Humane Society
DESCRIPTION:Join us for Rabbit Romper Room at the Marin Humane Society. The bunnies have a chance to romp and run freely and you get the chance to pet them and give them love!
URL:https://www.children4change.org/event/give-tlc-to-adoptable-bunnies-at-marin-humane-society-2-2018-11-21/
LOCATION:Marin Humane Society\, 171 Bel Marin Keys Blvd.\, Novato\, CA
CATEGORIES:Community Volunteering
ORGANIZER;CN="Children for Change":MAILTO:info@children4change.org
END:VEVENT
BEGIN:VEVENT
DTSTART;TZID=America/Los_Angeles:20181119T043000
DTEND;TZID=America/Los_Angeles:20181119T083000
DTSTAMP:20260420T010530
CREATED:20181115T012527Z
LAST-MODIFIED:20181115T020741Z
UID:833-1542601800-1542616200@www.children4change.org
SUMMARY:Sign up test
DESCRIPTION:
URL:https://www.children4change.org/event/sign-up-test/
LOCATION:Test\, 123 test test
END:VEVENT
BEGIN:VEVENT
DTSTART;TZID=America/Los_Angeles:20181107T070000
DTEND;TZID=America/Los_Angeles:20181107T090000
DTSTAMP:20260420T010530
CREATED:20180829T073918Z
LAST-MODIFIED:20180829T074215Z
UID:738-1541574000-1541581200@www.children4change.org
SUMMARY:Distribute Healthy Food at a Farmer's Market-Style Food Bank
DESCRIPTION:Volunteer at the Health Hub where you’ll distribute healthy food to individuals and families.  This Farmer’s Market-Style Food Bank is a wonderful resource.  In addition to this weekly food bank\, the Health Hub\, coordinated by Marin Community Clinics\,  provides free and bilingual services such as farmers market style food distribution\, Zumba\, nutrition education\, healthy taste tests\, health screenings and information about community organizations.
URL:https://www.children4change.org/event/distribute-healthy-food-at-a-farmers-market-style-food-bank-2018-11-07/
LOCATION:Health Hub\, 3110 Kerner Blvd\, San Rafael\, CA\, 94901
CATEGORIES:Community Volunteering
ORGANIZER;CN="Children for Change":MAILTO:info@children4change.org
END:VEVENT
BEGIN:VEVENT
DTSTART;TZID=America/Los_Angeles:20181031T123000
DTEND;TZID=America/Los_Angeles:20181031T133000
DTSTAMP:20260420T010530
CREATED:20180906T043948Z
LAST-MODIFIED:20180906T044242Z
UID:796-1540989000-1540992600@www.children4change.org
SUMMARY:C4C Check-In
DESCRIPTION:Come to our monthly check-in where we’ll share C4C Central updates\, hear from each of our Chapter representatives and information share.  All are welcome to attend to learn more about C4C.  RSVP requested but not required.  Hope to see you there!
URL:https://www.children4change.org/event/0000ff-c4c-check-in-meeting-0000ff-2018-10-31/
CATEGORIES:C4C Community Meeting
ORGANIZER;CN="Children for Change":MAILTO:info@children4change.org
END:VEVENT
BEGIN:VEVENT
DTSTART;TZID=America/Los_Angeles:20181027T060000
DTEND;TZID=America/Los_Angeles:20181027T090000
DTSTAMP:20260420T010530
CREATED:20180905T081207Z
LAST-MODIFIED:20180905T081207Z
UID:791-1540620000-1540630800@www.children4change.org
SUMMARY:Help out at the San Francisco-Marin Food Bank
DESCRIPTION:Come to our monthly check-in where we’ll share C4C Central updates\, hear from each of our Chapter representatives and information share.  All are welcome to attend to learn more about C4C.  RSVP requested but not required.  Hope to see you there!
URL:https://www.children4change.org/event/help-out-at-the-san-francisco-marin-food-bank-3/
LOCATION:San Francisco-Marin Food Bank\, 2550 Kerner Blvd.\, San Rafael\, CA\, 94901
ORGANIZER;CN="Children for Change":MAILTO:info@children4change.org
END:VEVENT
BEGIN:VEVENT
DTSTART;VALUE=DATE:20181026
DTEND;VALUE=DATE:20181029
DTSTAMP:20260420T010530
CREATED:20180828T022435Z
LAST-MODIFIED:20180905T081027Z
UID:675-1540573200-1540745999@www.children4change.org
SUMMARY:Change for Good Weekend
DESCRIPTION:Calling all interested families! Our Change for Good weekends are our gift to you – – a whole weekend of carefully curated community volunteer opportunities designed to bring our meeting curriculum to life for our students and introduce others to the warm fuzzies you get when doing good. Join our extended community for an inspiring weekend of change for good fun.
URL:https://www.children4change.org/event/change-for-good-weekend/
CATEGORIES:Change for Good Weekend
ORGANIZER;CN="Children for Change":MAILTO:info@children4change.org
END:VEVENT
BEGIN:VEVENT
DTSTART;TZID=America/Los_Angeles:20181024T080000
DTEND;TZID=America/Los_Angeles:20181024T100000
DTSTAMP:20260420T010530
CREATED:20180829T073918Z
LAST-MODIFIED:20180829T074214Z
UID:737-1540368000-1540375200@www.children4change.org
SUMMARY:Distribute Healthy Food at a Farmer's Market-Style Food Bank
DESCRIPTION:Volunteer at the Health Hub where you’ll distribute healthy food to individuals and families.  This Farmer’s Market-Style Food Bank is a wonderful resource.  In addition to this weekly food bank\, the Health Hub\, coordinated by Marin Community Clinics\,  provides free and bilingual services such as farmers market style food distribution\, Zumba\, nutrition education\, healthy taste tests\, health screenings and information about community organizations.
URL:https://www.children4change.org/event/distribute-healthy-food-at-a-farmers-market-style-food-bank-2018-10-24/
LOCATION:Health Hub\, 3110 Kerner Blvd\, San Rafael\, CA\, 94901
CATEGORIES:Community Volunteering
ORGANIZER;CN="Children for Change":MAILTO:info@children4change.org
END:VEVENT
BEGIN:VEVENT
DTSTART;TZID=America/Los_Angeles:20181017T080000
DTEND;TZID=America/Los_Angeles:20181017T084500
DTSTAMP:20260420T010530
CREATED:20180823T225549Z
LAST-MODIFIED:20180829T065051Z
UID:621-1539763200-1539765900@www.children4change.org
SUMMARY:Give TLC to Adoptable Bunnies at Marin Humane Society
DESCRIPTION:Join us for Rabbit Romper Room at the Marin Humane Society. The bunnies have a chance to romp and run freely and you get the chance to pet them and give them love!
URL:https://www.children4change.org/event/give-tlc-to-adoptable-bunnies-at-marin-humane-society-2-2018-10-17/
LOCATION:Marin Humane Society\, 171 Bel Marin Keys Blvd.\, Novato\, CA
CATEGORIES:Community Volunteering
ORGANIZER;CN="Children for Change":MAILTO:info@children4change.org
END:VEVENT
BEGIN:VEVENT
DTSTART;TZID=America/Los_Angeles:20181010T080000
DTEND;TZID=America/Los_Angeles:20181010T100000
DTSTAMP:20260420T010530
CREATED:20180829T073918Z
LAST-MODIFIED:20180829T074214Z
UID:736-1539158400-1539165600@www.children4change.org
SUMMARY:Distribute Healthy Food at a Farmer's Market-Style Food Bank
DESCRIPTION:Volunteer at the Health Hub where you’ll distribute healthy food to individuals and families.  This Farmer’s Market-Style Food Bank is a wonderful resource.  In addition to this weekly food bank\, the Health Hub\, coordinated by Marin Community Clinics\,  provides free and bilingual services such as farmers market style food distribution\, Zumba\, nutrition education\, healthy taste tests\, health screenings and information about community organizations.
URL:https://www.children4change.org/event/distribute-healthy-food-at-a-farmers-market-style-food-bank-2018-10-10/
LOCATION:Health Hub\, 3110 Kerner Blvd\, San Rafael\, CA\, 94901
CATEGORIES:Community Volunteering
ORGANIZER;CN="Children for Change":MAILTO:info@children4change.org
END:VEVENT
BEGIN:VEVENT
DTSTART;TZID=America/Los_Angeles:20180929T060000
DTEND;TZID=America/Los_Angeles:20180929T090000
DTSTAMP:20260420T010530
CREATED:20180905T071748Z
LAST-MODIFIED:20180905T074751Z
UID:783-1538200800-1538211600@www.children4change.org
SUMMARY:Help Out at the San Francisco-Marin Food Bank
DESCRIPTION:Lend a hand at the Food Bank where projects typically involve sorting fresh produce\, packaging bulk foods\, assembling grocery boxes for seniors\, and sorting donations from food drives. This is a great volunteer opportunity for families with younger kids!
URL:https://www.children4change.org/event/help-out-at-the-san-francisco-marin-food-bank-2/
LOCATION:San Francisco-Marin Food Bank\, 2550 Kerner Blvd.\, San Rafael\, CA\, 94901
ORGANIZER;CN="Children for Change":MAILTO:info@children4change.org
END:VEVENT
BEGIN:VEVENT
DTSTART;TZID=America/Los_Angeles:20180926T123000
DTEND;TZID=America/Los_Angeles:20180926T133000
DTSTAMP:20260420T010530
CREATED:20180906T043948Z
LAST-MODIFIED:20180906T044242Z
UID:794-1537965000-1537968600@www.children4change.org
SUMMARY:C4C Check-In
DESCRIPTION:Lend a hand at the Food Bank where projects typically involve sorting fresh produce\, packaging bulk foods\, assembling grocery boxes for seniors\, and sorting donations from food drives. This is a great volunteer opportunity for families with younger kids!
URL:https://www.children4change.org/event/0000ff-c4c-check-in-meeting-0000ff/
CATEGORIES:C4C Community Meeting
ORGANIZER;CN="Children for Change":MAILTO:info@children4change.org
END:VEVENT
END:VCALENDAR